BEGIN:VCALENDAR
VERSION:2.0
PRODID:-//Visita do Papa - ECPv6.15.17//NONSGML v1.0//EN
CALSCALE:GREGORIAN
METHOD:PUBLISH
X-WR-CALNAME:Visita do Papa
X-ORIGINAL-URL:https://visitadopapa.ao
X-WR-CALDESC:Eventos para Visita do Papa
REFRESH-INTERVAL;VALUE=DURATION:PT1H
X-Robots-Tag:noindex
X-PUBLISHED-TTL:PT1H
BEGIN:VTIMEZONE
TZID:UTC
BEGIN:STANDARD
TZOFFSETFROM:+0000
TZOFFSETTO:+0000
TZNAME:UTC
DTSTART:20240101T000000
END:STANDARD
END:VTIMEZONE
BEGIN:VEVENT
DTSTART;TZID=UTC:20250912T080000
DTEND;TZID=UTC:20270910T170000
DTSTAMP:20260420T112808
CREATED:20250912T124218Z
LAST-MODIFIED:20251001T082736Z
UID:4217-1757664000-1820595600@visitadopapa.ao
SUMMARY:Prayer & healing service
DESCRIPTION:In times of difficulty\, prayer offers strength\, comfort\, and hope. Our Prayer & Healing Service is a dedicated space where we lift up one another in prayer\, seek God’s healing touch\, and open our hearts to His peace. Together\, we intercede for the sick\, the weary\, and those in need of encouragement. Many find this service to be a turning point—a moment where burdens feel lighter and God’s presence becomes deeply real. You are invited to experience this powerful time of faith and renewal.
URL:https://visitadopapa.ao/event/prayer-healing-service/
CATEGORIES:Youth & Family Life
END:VEVENT
BEGIN:VEVENT
DTSTART;TZID=UTC:20250912T080000
DTEND;TZID=UTC:20270915T170000
DTSTAMP:20260420T112808
CREATED:20250912T124240Z
LAST-MODIFIED:20251001T082630Z
UID:4219-1757664000-1821027600@visitadopapa.ao
SUMMARY:Holiday celebration event
DESCRIPTION:At Faithful\, we celebrate the seasons of joy with gratitude and community. Our Holiday Celebration Event brings together worship\, music\, and fellowship to honor the meaning of Christmas\, Easter\, and other special days on the church calendar. These gatherings are filled with warmth\, tradition\, and opportunities to share God’s love with family and friends. From festive services to community meals\, each celebration reminds us of the hope and promise found in Christ. All are welcome to join and be part of the joy.
URL:https://visitadopapa.ao/event/holiday-celebration-event/
CATEGORIES:Community & Outreach
END:VEVENT
END:VCALENDAR